BEGIN:VCALENDAR
VERSION:2.0
PRODID:-//ChamberMaster//Event Calendar 2.0//EN
METHOD:PUBLISH
X-PUBLISHED-TTL:P1H
REFRESH-INTERVAL:P1H
CALSCALE:GREGORIAN
BEGIN:VTIMEZONE
TZID:America/Los_Angeles
BEGIN:DAYLIGHT
RRULE:FREQ=YEARLY;BYMONTH=3;BYDAY=2SU
DTSTART:20070101T000000
TZOFFSETFROM:-0800
TZOFFSETTO:-0700
TZNAME:Pacific Daylight Time
END:DAYLIGHT
BEGIN:STANDARD
RRULE:FREQ=YEARLY;BYMONTH=11;BYDAY=1SU
DTSTART:20070101T000000
TZOFFSETFROM:-0700
TZOFFSETTO:-0800
TZNAME:Pacific Standard Time
END:STANDARD
END:VTIMEZONE
BEGIN:VEVENT
DTSTART;TZID=America/Los_Angeles:20260527T173000
DTEND;TZID=America/Los_Angeles:20260527T183000
X-MICROSOFT-CDO-ALLDAYEVENT:FALSE
SUMMARY:Compost Workshop
DESCRIPTION:Get ready to dig in! Join Atlas Disposal and Soil Born Farms for our first Compost Workshop of the year on May 27. Learn how to turn food scraps into nutrient-rich soil\, explore the science of composting\, and get hands-on with real compost. Participants will take home a bucket of compost and a $25 Green Acres Nursery gift card. Space is limited\, sign up today and kickstart your composting journey this spring!
X-ALT-DESC;FMTTYPE=text/html:<!DOCTYPE html><html><head><title></title></head><body aria-disabled="false"><p>Get ready to dig in! Join Atlas Disposal and Soil Born Farms for our first Compost Workshop of the year on May 27. Learn how to turn food scraps into nutrient-rich soil\, explore the science of composting\, and get hands-on with real compost. Participants will take home a bucket of compost and a $25 Green Acres Nursery gift card. Space is limited\, sign up today and kickstart your composting journey this spring!</p></body></html>
LOCATION:2140 Chase Drive Rancho Cordova CA 95670
UID:e.4457.1445481
SEQUENCE:3
DTSTAMP:20260421T234613Z
URL:https://business.ranchocordova.org/event-calendar-list/Details/compost-workshop-1712105?sourceTypeId=Hub
END:VEVENT
END:VCALENDAR
