BEGIN:VCALENDAR
VERSION:2.0
PRODID:-//ChamberMaster//Event Calendar 2.0//EN
METHOD:PUBLISH
X-PUBLISHED-TTL:P1H
REFRESH-INTERVAL:P1H
CALSCALE:GREGORIAN
BEGIN:VTIMEZONE
TZID:America/Los_Angeles
BEGIN:DAYLIGHT
RRULE:FREQ=YEARLY;BYMONTH=3;BYDAY=2SU
DTSTART:20070101T000000
TZOFFSETFROM:-0800
TZOFFSETTO:-0700
TZNAME:Pacific Daylight Time
END:DAYLIGHT
BEGIN:STANDARD
RRULE:FREQ=YEARLY;BYMONTH=11;BYDAY=1SU
DTSTART:20070101T000000
TZOFFSETFROM:-0700
TZOFFSETTO:-0800
TZNAME:Pacific Standard Time
END:STANDARD
END:VTIMEZONE
BEGIN:VEVENT
DTSTART;VALUE=DATE:20260509
DTEND;VALUE=DATE:20260510
TRANSP:TRANSPARENT
X-MICROSOFT-CDO-ALLDAYEVENT:TRUE
SUMMARY:Child Action Golden Gala: Celebrating 50 Years of Impact
DESCRIPTION:Join Child Action for a special evening celebrating 50 years of strengthening families\, supporting child care providers\, and building brighter futures for children in our community. The Golden Gala brings together community leaders\, partners\, and supporters for a memorable night of celebration\, connection\, and purpose. \n\nGuests will enjoy an elegant evening while helping raise critical support for programs that expand access to affordable\, high-quality child care and provide resources for families and providers across our region. \n\nYour participation helps ensure that families can work\, children can thrive\, and child care providers have the tools they need to succeed. Tickets and donation options are available. https://childaction.org/golden-gala/
X-ALT-DESC;FMTTYPE=text/html:<!DOCTYPE html><html><head><title></title></head><body aria-disabled="false"><p>Join Child Action for a special evening celebrating 50 years of strengthening families\, supporting child care providers\, and building brighter futures for children in our community. The Golden Gala brings together community leaders\, partners\, and supporters for a memorable night of celebration\, connection\, and purpose. <br><br>Guests will enjoy an elegant evening while helping raise critical support for programs that expand access to affordable\, high-quality child care and provide resources for families and providers across our region. <br><br>Your participation helps ensure that families can work\, children can thrive\, and child care providers have the tools they need to succeed. Tickets and donation options are available. https://childaction.org/golden-gala/</p></body></html>
LOCATION:11211 Point East Drive Rancho Cordova CA 95742
UID:e.4457.1443714
SEQUENCE:3
DTSTAMP:20260421T221436Z
URL:https://business.ranchocordova.org/event-calendar-list/Details/child-action-golden-gala-celebrating-50-years-of-impact-1709942?sourceTypeId=Hub
END:VEVENT
END:VCALENDAR
